BEGIN:VCALENDAR
VERSION:2.0
PRODID:-//Kaslo Community Services - ECPv6.15.20//NONSGML v1.0//EN
CALSCALE:GREGORIAN
METHOD:PUBLISH
X-WR-CALNAME:Kaslo Community Services
X-ORIGINAL-URL:https://kaslo.services
X-WR-CALDESC:Events for Kaslo Community Services
REFRESH-INTERVAL;VALUE=DURATION:PT1H
X-Robots-Tag:noindex
X-PUBLISHED-TTL:PT1H
BEGIN:VTIMEZONE
TZID:America/Vancouver
BEGIN:DAYLIGHT
TZOFFSETFROM:-0800
TZOFFSETTO:-0700
TZNAME:PDT
DTSTART:20250309T100000
END:DAYLIGHT
BEGIN:STANDARD
TZOFFSETFROM:-0700
TZOFFSETTO:-0800
TZNAME:PST
DTSTART:20251102T090000
END:STANDARD
BEGIN:DAYLIGHT
TZOFFSETFROM:-0800
TZOFFSETTO:-0700
TZNAME:PDT
DTSTART:20260308T100000
END:DAYLIGHT
BEGIN:STANDARD
TZOFFSETFROM:-0700
TZOFFSETTO:-0800
TZNAME:PST
DTSTART:20261101T090000
END:STANDARD
BEGIN:DAYLIGHT
TZOFFSETFROM:-0800
TZOFFSETTO:-0700
TZNAME:PDT
DTSTART:20270314T100000
END:DAYLIGHT
BEGIN:STANDARD
TZOFFSETFROM:-0700
TZOFFSETTO:-0800
TZNAME:PST
DTSTART:20271107T090000
END:STANDARD
END:VTIMEZONE
BEGIN:VEVENT
DTSTART;TZID=America/Vancouver:20260401T084500
DTEND;TZID=America/Vancouver:20260401T114500
DTSTAMP:20260425T175236
CREATED:20250925T215045Z
LAST-MODIFIED:20260313T233439Z
UID:10003096-1775033100-1775043900@kaslo.services
SUMMARY:Strong Start Kaslo
DESCRIPTION:Parents and Caregivers are invited to join us with your young children for free play\, crafts and activities\, gym time\, stories\, snack\, good coffee and more! FREE! The program is drop-in style\, so you’re welcome to come and go as it works for your family. \nIf it is your first time attending\, please plan to bring your child’s birth certificate along for registration.
URL:https://kaslo.services/event/strong-start-kaslo/2026-04-01/
LOCATION:Kaslo Family Resource Centre: room B120 at JVH school\, J. V. Humphries School\, 500 6th St\, Kaslo\, BC
CATEGORIES:Early Years,Family
ATTACH;FMTTYPE=image/jpeg:https://kaslo.services/wp-content/uploads/KCSS_FamilyCentre-3070106-scaled.jpg
ORGANIZER;CN="Sarah Evans":MAILTO:sarahevans@kaslo.services
END:VEVENT
BEGIN:VEVENT
DTSTART;TZID=America/Vancouver:20260327T084500
DTEND;TZID=America/Vancouver:20260327T114500
DTSTAMP:20260425T175236
CREATED:20260205T233223Z
LAST-MODIFIED:20260205T235220Z
UID:10004226-1774601100-1774611900@kaslo.services
SUMMARY:Strong Start Kaslo - CLOSED
DESCRIPTION:Kaslo Strong Start is closed on the following dates: \n\nFriday February 13 due to school closure\nWednesday March 18 (school spring break)\nFriday March 20 (school spring break)\nWednesday March 25 (school spring break)\nFriday March 27 (school spring break)\nFriday April 3 (Good Friday stat holiday)\n\nParents and Caregivers are invited to join us with your young children for free play\, crafts and activities\, gym time\, stories\, snack\, good coffee and more! FREE! The program is drop-in style\, so you’re welcome to come and go as it works for your family. \nIf it is your first time attending\, please plan to bring your child’s birth certificate along for registration.
URL:https://kaslo.services/event/strong-start-kaslo-closed/2026-03-27/
LOCATION:Kaslo Family Resource Centre: room B120 at JVH school\, J. V. Humphries School\, 500 6th St\, Kaslo\, BC
CATEGORIES:Early Years,Family
ATTACH;FMTTYPE=image/jpeg:https://kaslo.services/wp-content/uploads/KCSS_FamilyCentre-3070106-scaled.jpg
ORGANIZER;CN="Sarah Evans":MAILTO:sarahevans@kaslo.services
END:VEVENT
END:VCALENDAR