BEGIN:VCALENDAR
VERSION:2.0
PRODID:-//Kaslo Community Services - ECPv6.15.20//NONSGML v1.0//EN
CALSCALE:GREGORIAN
METHOD:PUBLISH
X-ORIGINAL-URL:https://kaslo.services
X-WR-CALDESC:Events for Kaslo Community Services
REFRESH-INTERVAL;VALUE=DURATION:PT1H
X-Robots-Tag:noindex
X-PUBLISHED-TTL:PT1H
BEGIN:VTIMEZONE
TZID:America/Vancouver
BEGIN:DAYLIGHT
TZOFFSETFROM:-0800
TZOFFSETTO:-0700
TZNAME:PDT
DTSTART:20250309T100000
END:DAYLIGHT
BEGIN:STANDARD
TZOFFSETFROM:-0700
TZOFFSETTO:-0800
TZNAME:PST
DTSTART:20251102T090000
END:STANDARD
BEGIN:DAYLIGHT
TZOFFSETFROM:-0800
TZOFFSETTO:-0700
TZNAME:PDT
DTSTART:20260308T100000
END:DAYLIGHT
BEGIN:STANDARD
TZOFFSETFROM:-0700
TZOFFSETTO:-0800
TZNAME:PST
DTSTART:20261101T090000
END:STANDARD
BEGIN:DAYLIGHT
TZOFFSETFROM:-0800
TZOFFSETTO:-0700
TZNAME:PDT
DTSTART:20270314T100000
END:DAYLIGHT
BEGIN:STANDARD
TZOFFSETFROM:-0700
TZOFFSETTO:-0800
TZNAME:PST
DTSTART:20271107T090000
END:STANDARD
END:VTIMEZONE
BEGIN:VEVENT
DTSTART;TZID=America/Vancouver:20260428T103000
DTEND;TZID=America/Vancouver:20260428T130000
DTSTAMP:20260425T131422
CREATED:20250925T185956Z
LAST-MODIFIED:20260313T233707Z
UID:10003013-1777372200-1777381200@kaslo.services
SUMMARY:Growing with Baby
DESCRIPTION:A free program for people expecting babies or parenting babies under 9 months. \n\ngroup support\nlunch and childcare\ninformation\nspeakers\nreferrals\nresources\n\nTuesdays\, 10:30 -1:00 \nContact Barb Cyr for information and to register: barbcyr@kaslo.services or 250-353-7691 ext 209.
URL:https://kaslo.services/event/growing-with-baby/2026-04-28/
LOCATION:Kaslo Family Resource Centre: room B120 at JVH school\, J. V. Humphries School\, 500 6th St\, Kaslo\, BC
CATEGORIES:Early Years,Family
ATTACH;FMTTYPE=image/png:https://kaslo.services/wp-content/uploads/growing-with-baby-post.png
ORGANIZER;CN="Barb Cyr":MAILTO:barbcyr@kaslo.services
END:VEVENT
BEGIN:VEVENT
DTSTART;TZID=America/Vancouver:20260505T100000
DTEND;TZID=America/Vancouver:20260505T130000
DTSTAMP:20260425T131422
CREATED:20260313T234133Z
LAST-MODIFIED:20260313T234540Z
UID:10004448-1777975200-1777986000@kaslo.services
SUMMARY:Infant Massage Class
DESCRIPTION:Free 5 week Infant Massage course!  For parents expecting a baby and those with babies up to 9 months.\nJoin us to learn all the skills needed to offer your infant a full body massage.\nInfant massage can help:\n\nimprove sleep (for parents and babies)\nenhance bonding\nrelieve tension\nease stress\nsoothe gas pain/”colic”\n\nClasses also include time for parent discussion and connection.\nChildcare for older children and hot lunch provided.\nBarb Cyr is a certified infant massage instructor with the International Association of Infant Massage (IAIM)\nTuesdays\, 10:00-1:00\nMarch 31\, April 7\, 14\, 21\, May 5\nContact Barb to register by responding to this email or calling 250-353-7691 ext. 209\nFeel free to share this with anyone you know who is pregnant or parenting a young baby.
URL:https://kaslo.services/event/5590/2026-05-05/
LOCATION:Kaslo Family Resource Centre: room B120 at JVH school\, J. V. Humphries School\, 500 6th St\, Kaslo\, BC
CATEGORIES:Early Years,Family
ATTACH;FMTTYPE=image/png:https://kaslo.services/wp-content/uploads/Infant-Massage-poster-spring-26.png
ORGANIZER;CN="Barb Cyr":MAILTO:barbcyr@kaslo.services
END:VEVENT
BEGIN:VEVENT
DTSTART;TZID=America/Vancouver:20260505T103000
DTEND;TZID=America/Vancouver:20260505T130000
DTSTAMP:20260425T131422
CREATED:20250925T185956Z
LAST-MODIFIED:20260313T233707Z
UID:10003014-1777977000-1777986000@kaslo.services
SUMMARY:Growing with Baby
DESCRIPTION:A free program for people expecting babies or parenting babies under 9 months. \n\ngroup support\nlunch and childcare\ninformation\nspeakers\nreferrals\nresources\n\nTuesdays\, 10:30 -1:00 \nContact Barb Cyr for information and to register: barbcyr@kaslo.services or 250-353-7691 ext 209.
URL:https://kaslo.services/event/growing-with-baby/2026-05-05/
LOCATION:Kaslo Family Resource Centre: room B120 at JVH school\, J. V. Humphries School\, 500 6th St\, Kaslo\, BC
CATEGORIES:Early Years,Family
ATTACH;FMTTYPE=image/png:https://kaslo.services/wp-content/uploads/growing-with-baby-post.png
ORGANIZER;CN="Barb Cyr":MAILTO:barbcyr@kaslo.services
END:VEVENT
BEGIN:VEVENT
DTSTART;TZID=America/Vancouver:20260512T103000
DTEND;TZID=America/Vancouver:20260512T130000
DTSTAMP:20260425T131422
CREATED:20250925T185956Z
LAST-MODIFIED:20260313T233707Z
UID:10003015-1778581800-1778590800@kaslo.services
SUMMARY:Growing with Baby
DESCRIPTION:A free program for people expecting babies or parenting babies under 9 months. \n\ngroup support\nlunch and childcare\ninformation\nspeakers\nreferrals\nresources\n\nTuesdays\, 10:30 -1:00 \nContact Barb Cyr for information and to register: barbcyr@kaslo.services or 250-353-7691 ext 209.
URL:https://kaslo.services/event/growing-with-baby/2026-05-12/
LOCATION:Kaslo Family Resource Centre: room B120 at JVH school\, J. V. Humphries School\, 500 6th St\, Kaslo\, BC
CATEGORIES:Early Years,Family
ATTACH;FMTTYPE=image/png:https://kaslo.services/wp-content/uploads/growing-with-baby-post.png
ORGANIZER;CN="Barb Cyr":MAILTO:barbcyr@kaslo.services
END:VEVENT
BEGIN:VEVENT
DTSTART;TZID=America/Vancouver:20260513T100000
DTEND;TZID=America/Vancouver:20260513T120000
DTSTAMP:20260425T131422
CREATED:20260422T173552Z
LAST-MODIFIED:20260422T173552Z
UID:10004469-1778666400-1778673600@kaslo.services
SUMMARY:Free First Aid Class for parents of children 0 to 5 years!
DESCRIPTION:Join us at the Meadow Creek Family Centre (in Jewett school) for this hands-on session\, taught by Marty Cyr\, community paramedic. \nLearn to respond to choking\, burns\, bleeding and more.  Practice CPR on the infant first aid dolls. \nWednesday\, May 13th.  10:00-12:00 \nChildcare and snacks provided. \nRegistration required: contact Barb Cyr at 250-353-7691 or barbcyr@kaslo.services \nOffered by Kaslo Community Services in partnership with BC Ambulance.  Thanks to Columbia Basin Trust for financial support. \nFeel free to reach out with any questions
URL:https://kaslo.services/event/free-first-aid-class-for-parents-of-children-0-to-5-years/
LOCATION:Meadow Creek Family Centre\, Jewett School\, Meadow Creek Road\, Meadow Creek\, British Columbia\, V0G 1N0\, Canada
CATEGORIES:Early Years,Family
ATTACH;FMTTYPE=image/png:https://kaslo.services/wp-content/uploads/Free-First-Aid-Class-for-Parents-Facebook-Post.png
ORGANIZER;CN="Barb Cyr":MAILTO:barbcyr@kaslo.services
END:VEVENT
BEGIN:VEVENT
DTSTART;TZID=America/Vancouver:20260519T103000
DTEND;TZID=America/Vancouver:20260519T130000
DTSTAMP:20260425T131422
CREATED:20250925T185956Z
LAST-MODIFIED:20260313T233707Z
UID:10003016-1779186600-1779195600@kaslo.services
SUMMARY:Growing with Baby
DESCRIPTION:A free program for people expecting babies or parenting babies under 9 months. \n\ngroup support\nlunch and childcare\ninformation\nspeakers\nreferrals\nresources\n\nTuesdays\, 10:30 -1:00 \nContact Barb Cyr for information and to register: barbcyr@kaslo.services or 250-353-7691 ext 209.
URL:https://kaslo.services/event/growing-with-baby/2026-05-19/
LOCATION:Kaslo Family Resource Centre: room B120 at JVH school\, J. V. Humphries School\, 500 6th St\, Kaslo\, BC
CATEGORIES:Early Years,Family
ATTACH;FMTTYPE=image/png:https://kaslo.services/wp-content/uploads/growing-with-baby-post.png
ORGANIZER;CN="Barb Cyr":MAILTO:barbcyr@kaslo.services
END:VEVENT
BEGIN:VEVENT
DTSTART;TZID=America/Vancouver:20260526T103000
DTEND;TZID=America/Vancouver:20260526T130000
DTSTAMP:20260425T131422
CREATED:20250925T185956Z
LAST-MODIFIED:20260313T233707Z
UID:10003017-1779791400-1779800400@kaslo.services
SUMMARY:Growing with Baby
DESCRIPTION:A free program for people expecting babies or parenting babies under 9 months. \n\ngroup support\nlunch and childcare\ninformation\nspeakers\nreferrals\nresources\n\nTuesdays\, 10:30 -1:00 \nContact Barb Cyr for information and to register: barbcyr@kaslo.services or 250-353-7691 ext 209.
URL:https://kaslo.services/event/growing-with-baby/2026-05-26/
LOCATION:Kaslo Family Resource Centre: room B120 at JVH school\, J. V. Humphries School\, 500 6th St\, Kaslo\, BC
CATEGORIES:Early Years,Family
ATTACH;FMTTYPE=image/png:https://kaslo.services/wp-content/uploads/growing-with-baby-post.png
ORGANIZER;CN="Barb Cyr":MAILTO:barbcyr@kaslo.services
END:VEVENT
END:VCALENDAR